BEGIN:VCALENDAR
VERSION:2.0
PRODID:-//hacksw/handcal//NONSGML v1.0//EN
BEGIN:VEVENT
SUMMARY:Ouverture du club ce samedi
UID:40cbfb4c-4a2a-402a-9fa3-24120c09b907
DTSTART:20260425T130000Z
DTEND:20260425T170000Z
LOCATION:Localisation   
CATEGORIES:Sportif
STATUS:
DESCRIPTION:<h1 style="text-align:center;">Marie-Line et Michel vous
 accueilleront au club ce samedi.</h1>
 
 <p
 style="text-align:center;"><span style="font-size:16px;"><span
 style="font-family:Calibri, Helvetica, sans-serif;"><span
 style="background-color:#f6fafe;">Une reception des allemands
 de <font size="2"><font style="font-family:Calibri, sans-serif,
 serif, EmojiFont;"><span style="font-size:11pt;">NEUKIRCHEN VLUYN
 (dans le cadre d'un jumelage) se deroulera le samedi 25 avril a
 15h00 sur les pistes
 exterieurs. </span></font></font></span></span></span></p>
 
 <p
 style="text-align:center;"><span style="font-size:16px;"><span
 style="font-family:Calibri, Helvetica, sans-serif;"><span
 style="background-color:#f6fafe;">Dans la cas ou les conditions
 meteorologiques ne seraient pas favorables pour l'organisation de
 leur tournoi de petanque, nous proposons le boulodrome de l'Atelier
 en solution de repli. </span></span></span></p>
URL;VALUE=URI:https://www.petanquecolbertiste.com/evenements/2026/04/25/ouverture-du-club-ce-samedi-2414512
END:VEVENT
END:VCALENDAR
